BEGIN:VCALENDAR
VERSION:2.0
PRODID:-//wp-events-plugin.com//7.2.3.1//EN
BEGIN:VEVENT
UID:7@kunstbeurzenpas.nl
DTSTART;TZID=Europe/Amsterdam:20261114T110000
DTEND;TZID=Europe/Amsterdam:20261115T173000
DTSTAMP:20260407T073153Z
URL:https://kunstbeurzenpas.nl/events/nationale-kunstdagen/
SUMMARY:Nationale Kunstdagen
DESCRIPTION:Tijdens de Nationale Kunstdagen kun je in een informele sfeer g
 enieten van unieke kunstwerken en gesprekken met meer dan 200 aanwezige ku
 nstenaars. Er is live muziek en een groot terras\, tussen de kunstwerken\,
  om even te ontspannen en met je metgezel te praten over wel kunstwerk jul
 lie misschien wel mee naar huis nemen!
ATTACH;FMTTYPE=image/jpeg:https://kunstbeurzenpas.nl/wp-content/uploads/20
 26/01/Logo.jpg
LOCATION:Evenementenhal Gorinchem\, Franklinweg 2\, Gorinchem\, 4207 HZ\, N
 ederland
X-APPLE-STRUCTURED-LOCATION;VALUE=URI;X-ADDRESS=Franklinweg 2\, Gorinchem\,
  4207 HZ\, Nederland;X-APPLE-RADIUS=100;X-TITLE=Evenementenhal Gorinchem:g
 eo:0,0
END:VEVENT
BEGIN:VTIMEZONE
TZID:Europe/Amsterdam
X-LIC-LOCATION:Europe/Amsterdam
BEGIN:STANDARD
DTSTART:20261025T020000
TZOFFSETFROM:+0200
TZOFFSETTO:+0100
TZNAME:CET
END:STANDARD
END:VTIMEZONE
END:VCALENDAR