BEGIN:VCALENDAR
VERSION:2.0
PRODID:-//wp-events-plugin.com//7.2.3.1//EN
BEGIN:VEVENT
UID:11@kunstbeurzenpas.nl
DTSTART:20260416T110000Z
DTEND:20260419T180000Z
DTSTAMP:20260407T072740Z
URL:https://kunstbeurzenpas.nl/events/kunst-en-antiek-evenement-zeist/
SUMMARY:Kunst en Antiek Evenement - Zeist
DESCRIPTION:Het Kunst en Antiek Evenement is in de afgelopen 15 jaar uitgeg
 roeid tot een landelijk bekend evenement voor de kunstkenner\, verzamelaar
  en koper. Van 16 tot en met 19 april opent Het Kunst &amp\; Antiek Evenem
 ent zijn deuren op het prachtig gelegen Slot Zeist. Het evenement heeft op
  vrijdag 17 april een verlengde openingstijd namelijk van 11:00 – 20:30 
 uur.\nRuim 30 exposanten presenteren gedurende vier dagen een uniek en gev
 arieerd aanbod van hedendaags kunst\, design\, juwelen art deco\, art nouv
 eau\, fotografie\, binnenhuis architectuur en meer.\n\nhttps://kunstenanti
 ekevenement.nl
ATTACH;FMTTYPE=image/jpeg:https://kunstbeurzenpas.nl/wp-content/uploads/20
 26/04/KAE-Zeist.png
LOCATION:Slot Zeist\, Zinzendorflaan 1\, Zeist\, 3703 CE\, Nederland
X-APPLE-STRUCTURED-LOCATION;VALUE=URI;X-ADDRESS=Zinzendorflaan 1\, Zeist\, 
 3703 CE\, Nederland;X-APPLE-RADIUS=100;X-TITLE=Slot Zeist:geo:0,0
END:VEVENT
END:VCALENDAR