BEGIN:VCALENDAR
VERSION:2.0
PRODID:-//wp-events-plugin.com//7.2.3.1//EN
BEGIN:VEVENT
UID:14@kunstbeurzenpas.nl
DTSTART:20270415T110000Z
DTEND:20270418T180000Z
DTSTAMP:20260421T075359Z
URL:https://kunstbeurzenpas.nl/events/kunst-en-antiek-evenement-zeist-2/
SUMMARY:Kunst en antiek evenement Zeist
DESCRIPTION:Stap binnen in een wereld vol kunst\, design en historie. Het K
 unst en Antiek Evenement is in de afgelopen 15 jaar uitgegroeid tot een la
 ndelijk bekend evenement voor de kunstkenner\, verzamelaar en koper. Van 1
 5 tot en met 18 april 2027 opent Het Kunst &amp\; Antiek Evenement zijn de
 uren op het prachtig gelegen Slot Zeist.\nhttps://kunstenantiekevenement.n
 l/
ATTACH;FMTTYPE=image/jpeg:https://kunstbeurzenpas.nl/wp-content/uploads/20
 26/04/KAE-Zeist.png
LOCATION:Slot Zeist\, Zinzendorflaan 1\, Zeist\, 3703 CE\, Nederland
X-APPLE-STRUCTURED-LOCATION;VALUE=URI;X-ADDRESS=Zinzendorflaan 1\, Zeist\, 
 3703 CE\, Nederland;X-APPLE-RADIUS=100;X-TITLE=Slot Zeist:geo:0,0
END:VEVENT
END:VCALENDAR