BEGIN:VCALENDAR
VERSION:2.0
PRODID:-//wp-events-plugin.com//7.2.3.1//EN
BEGIN:VEVENT
UID:10@kunstbeurzenpas.nl
DTSTART:20270320T110000Z
DTEND:20270321T173000Z
DTSTAMP:20260407T072839Z
URL:https://kunstbeurzenpas.nl/events/brabant-art-fair/
SUMMARY:Brabant Art Fair
DESCRIPTION:Ruim 100 geselecteerde kunstenaars tonen hun mooiste werken in 
 een unieke sfeer en inspirerende omgeving. U kunt genieten van boeiende ku
 nstwerken\, van een glaasje wijn\, een frisdrankje of een kopje koffie of 
 thee en uiteraard ook van de passende entourage.
ATTACH;FMTTYPE=image/jpeg:https://kunstbeurzenpas.nl/wp-content/uploads/20
 25/11/brabant-air-fair.jpg
LOCATION:Koepelhal in Tilburg\, NS-Plein\, Tilburg\, NB\,  5041 SB\, Nederl
 and
X-APPLE-STRUCTURED-LOCATION;VALUE=URI;X-ADDRESS=NS-Plein\, Tilburg\, NB\,  
 5041 SB\, Nederland;X-APPLE-RADIUS=100;X-TITLE=Koepelhal in Tilburg:geo:0,
 0
END:VEVENT
END:VCALENDAR