BEGIN:VCALENDAR
VERSION:2.0
PRODID:-//wp-events-plugin.com//7.2.3.1//EN
BEGIN:VEVENT
UID:6@kunstbeurzenpas.nl
DTSTART:20261010T110000Z
DTEND:20261011T173000Z
DTSTAMP:20260407T073545Z
URL:https://kunstbeurzenpas.nl/events/biaf/
SUMMARY:Belgian international Art Fair (BiAF)
DESCRIPTION:De Belgian international Art Fair\, kort gezegd de BiAF vindt 
 plaats op zaterdag 10 en zondag 11 oktober 2026 in de Waagnatie Expo & Eve
 nts in Antwerpen. Het unieke aspect van deze beurs is dat u de gelegenheid
  heeft kennis te maken met de kunstenaars zélf. Zij zijn diegenen die het
  platform kleur geven en graag hun kunstwerken tonen en te koop aanbieden.
  Zo kunnen zij u vertellen over hun gedrevenheid en ideeën.
ATTACH;FMTTYPE=image/jpeg:https://kunstbeurzenpas.nl/wp-content/uploads/20
 25/11/biaf.jpg
LOCATION:Waagnatie\, Rijnkaai 150\, Antwerpen\, Antwerpen\, 2000\, België
X-APPLE-STRUCTURED-LOCATION;VALUE=URI;X-ADDRESS=Rijnkaai 150\, Antwerpen\, 
 Antwerpen\, 2000\, België;X-APPLE-RADIUS=100;X-TITLE=Waagnatie:geo:0,0
END:VEVENT
END:VCALENDAR