BEGIN:VCALENDAR
VERSION:2.0
PRODID:-//wp-events-plugin.com//7.2.3.1//EN
BEGIN:VEVENT
UID:8@kunstbeurzenpas.nl
DTSTART;TZID=Europe/Amsterdam:20270213T110000
DTEND;TZID=Europe/Amsterdam:20270214T173000
DTSTAMP:20260407T073048Z
URL:https://kunstbeurzenpas.nl/events/art-eindhoven/
SUMMARY:Art Eindhoven
DESCRIPTION:Tijdens Art Eindhoven kun je in het Klokgebouw in Eindhoven je 
 hart ophalen aan honderden unieke kunstwerken en inspirerende gesprekken v
 oeren met de kunstenaars die deze werken maakten. Alle werken zijn ook te 
 koop.
ATTACH;FMTTYPE=image/jpeg:https://kunstbeurzenpas.nl/wp-content/uploads/20
 25/11/art-eindhoven.jpg
LOCATION:Klokgebouw\, Klokgebouw\, Eindhoven\, Nederland
X-APPLE-STRUCTURED-LOCATION;VALUE=URI;X-ADDRESS=Klokgebouw\, Eindhoven\, Ne
 derland;X-APPLE-RADIUS=100;X-TITLE=Klokgebouw:geo:0,0
END:VEVENT
BEGIN:VTIMEZONE
TZID:Europe/Amsterdam
X-LIC-LOCATION:Europe/Amsterdam
BEGIN:STANDARD
DTSTART:20261025T020000
TZOFFSETFROM:+0200
TZOFFSETTO:+0100
TZNAME:CET
END:STANDARD
END:VTIMEZONE
END:VCALENDAR